BEGIN:VCALENDAR
VERSION:2.0
PRODID:-//Gasthaus Adler | Karsee - ECPv6.15.20//NONSGML v1.0//EN
CALSCALE:GREGORIAN
METHOD:PUBLISH
X-WR-CALNAME:Gasthaus Adler | Karsee
X-ORIGINAL-URL:https://gasthaus-adler-karsee.de
X-WR-CALDESC:Veranstaltungen für Gasthaus Adler | Karsee
REFRESH-INTERVAL;VALUE=DURATION:PT1H
X-Robots-Tag:noindex
X-PUBLISHED-TTL:PT1H
BEGIN:VTIMEZONE
TZID:Europe/Berlin
BEGIN:DAYLIGHT
TZOFFSETFROM:+0100
TZOFFSETTO:+0200
TZNAME:CEST
DTSTART:20250330T010000
END:DAYLIGHT
BEGIN:STANDARD
TZOFFSETFROM:+0200
TZOFFSETTO:+0100
TZNAME:CET
DTSTART:20251026T010000
END:STANDARD
BEGIN:DAYLIGHT
TZOFFSETFROM:+0100
TZOFFSETTO:+0200
TZNAME:CEST
DTSTART:20260329T010000
END:DAYLIGHT
BEGIN:STANDARD
TZOFFSETFROM:+0200
TZOFFSETTO:+0100
TZNAME:CET
DTSTART:20261025T010000
END:STANDARD
BEGIN:DAYLIGHT
TZOFFSETFROM:+0100
TZOFFSETTO:+0200
TZNAME:CEST
DTSTART:20270328T010000
END:DAYLIGHT
BEGIN:STANDARD
TZOFFSETFROM:+0200
TZOFFSETTO:+0100
TZNAME:CET
DTSTART:20271031T010000
END:STANDARD
END:VTIMEZONE
BEGIN:VTIMEZONE
TZID:UTC
BEGIN:STANDARD
TZOFFSETFROM:+0000
TZOFFSETTO:+0000
TZNAME:UTC
DTSTART:20250101T000000
END:STANDARD
END:VTIMEZONE
BEGIN:VEVENT
DTSTART;TZID=Europe/Berlin:20260417T180000
DTEND;TZID=Europe/Berlin:20260417T193000
DTSTAMP:20260421T101837
CREATED:20260416T134253Z
LAST-MODIFIED:20260420T111059Z
UID:2485-1776448800-1776454200@gasthaus-adler-karsee.de
SUMMARY:Salsa Cubana mit Hermann
DESCRIPTION:Salsa Abend im Adler mit Hermann
URL:https://gasthaus-adler-karsee.de/event/salsa-cubana-mit-hermann/
LOCATION:Gasthaus Adler Karsee\, Vogter Straße 1\, Wangen-Karsee\, 88316\, Germany
ATTACH;FMTTYPE=image/png:https://gasthaus-adler-karsee.de/wp-content/uploads/2026/01/2-Tanzkurs-Salsa-Cubana-130226.png
ORGANIZER;CN="Verein Tafelrunde e.V.":MAILTO:hallo@verein-tafelrunde.de
END:VEVENT
BEGIN:VEVENT
DTSTART;TZID=UTC:20260417T190000
DTEND;TZID=UTC:20260417T210000
DTSTAMP:20260421T101837
CREATED:20260416T134020Z
LAST-MODIFIED:20260416T134020Z
UID:2483-1776452400-1776459600@gasthaus-adler-karsee.de
SUMMARY:Forscherkreis "Intuition\, Verstand\, Kinesiologie"
DESCRIPTION:Gründung eines privaten Forscherkreises – Leitung: Karin Maria Müller\nTeilnahme auf Spendenbasis \nDu hast Interesse an eigenen privaten Forschungen\, dem respektvollen Austausch in einer Gruppe\, die sich in regelmäßigen Treffen stets weiterentwickelt und gemeinsam wächst? \nSei gespannt und geduldig\, wie viel du mit einfachen Möglichkeiten verändern kannst.\nVom Körper und der Kraft unserer Gedanken ausgehend forschen wir weiter in vielen anderen Dimensionen.\nSei herzlich eingeladen\, dir selbst und Mutter Erde zu helfen.\nWir nutzen kinesiologisches Werkzeug ebenso\, wie Intuition und Verstand. \nDank unserer Herzenskraft lernen wir\, mit den Quantenfeldern zu arbeiten und damit Veränderungen erfahrbar zu machen. \nDas Ziel der Forschungen ist das Erkennen von Wahrheiten\, Harmonie und Heilung in allen vorstellbaren Bereichen und Dimensionen. \nEigene Entwicklung kann entstehen durch Wahrhaftigkeit im Forschen\, eine offene Haltung\, die alles möglich sein läßt\, gepaart mit Mut\, Ausdauer und Geduld\, sowie Neugierde\, Logik und Intuition. \nMeine eigene Vorgehensweise habe ich über viele Jahre weiter entwickelt und möchte sie nun an eigenverantwortliche und achtsame Menschen weitergeben.\nJe intensiver die Forschung\, desto mehr Heilwissen wird generiert.\nJe mehr Menschen sich aufrichtig mit ihren Erkenntnissen vernetzen\, je klarer wird das gesamte Bild.\nDies brauchen wir jetzt und für die Zukunft. \nUnser erstes Forschungsthema wird aus aktuellem Anlaß das Wasser sein.\nEs ist seit einem Jahr noch stärker belastet\, was unseren Körper und die Umwelt beeinflußt.\nSelbst gefiltertes Wasser ist aus meiner Sicht seit dieser Zeit stärker belastet.\nDarüber werde ich berichten und gemeinsam forschen wir dazu modellhaft. \nVon der Gruppe gewünschte Themen werden gesammelt und\, je nach Zeit\, an weiteren Terminen bearbeitet. \nRegelmäßige Treffen finden derzeit 1x monatlich für 2-3 h statt.\nNach den ersten Terminen ist eine Absichtserklärung für eine regelmäßigeTeilnahme erwünscht. \nOrt : Karsee im Gasthof Adler\nDatum: 17.104.26\nZeit: 19 – 21 Uhr \nWenn du über andere Meßmethoden\, wie Pendel\, Ruten usw. verfügst\, bringe sie ruhig mit. \nLiteraturempfehlung : Das Buch „Schlüsselwörter“ von Phylak Spagyrik\, gern mitbringen. \nIch freue mich\, andere Forscher\, auch zukünftige\, kennen zu lernen. \nLeitung\, Anmeldung und private Sitzungen: Karin Maria Müller\n\nKontakt:\nMobil: 0178-9032079\nE-Mail: perspektivenwechsel@web.de \n\n\n\n\n\n\n\n\n 
URL:https://gasthaus-adler-karsee.de/event/forscherkreis-intuition-verstand-kinesiologie-7/
LOCATION:Gasthaus Adler Karsee\, Vogter Straße 1\, Wangen-Karsee\, 88316\, Germany
ATTACH;FMTTYPE=image/webp:https://gasthaus-adler-karsee.de/wp-content/uploads/2025/03/1852806076-meditation-1384758-37SC4GAJ.webp
ORGANIZER;CN="Karin M%C3%BCller":MAILTO:perspektivenwechsel@web.de
END:VEVENT
END:VCALENDAR